BEGIN:VCALENDAR
VERSION:2.0
PRODID:-//Port Susan Camping Club - ECPv6.15.20//NONSGML v1.0//EN
CALSCALE:GREGORIAN
METHOD:PUBLISH
X-WR-CALNAME:Port Susan Camping Club
X-ORIGINAL-URL:https://portsusancamping.club
X-WR-CALDESC:Events for Port Susan Camping Club
REFRESH-INTERVAL;VALUE=DURATION:PT1H
X-Robots-Tag:noindex
X-PUBLISHED-TTL:PT1H
BEGIN:VTIMEZONE
TZID:America/Los_Angeles
BEGIN:DAYLIGHT
TZOFFSETFROM:-0800
TZOFFSETTO:-0700
TZNAME:PDT
DTSTART:20270314T100000
END:DAYLIGHT
BEGIN:STANDARD
TZOFFSETFROM:-0700
TZOFFSETTO:-0800
TZNAME:PST
DTSTART:20271107T090000
END:STANDARD
BEGIN:DAYLIGHT
TZOFFSETFROM:-0800
TZOFFSETTO:-0700
TZNAME:PDT
DTSTART:20280312T100000
END:DAYLIGHT
BEGIN:STANDARD
TZOFFSETFROM:-0700
TZOFFSETTO:-0800
TZNAME:PST
DTSTART:20281105T090000
END:STANDARD
BEGIN:DAYLIGHT
TZOFFSETFROM:-0800
TZOFFSETTO:-0700
TZNAME:PDT
DTSTART:20290311T100000
END:DAYLIGHT
BEGIN:STANDARD
TZOFFSETFROM:-0700
TZOFFSETTO:-0800
TZNAME:PST
DTSTART:20291104T090000
END:STANDARD
END:VTIMEZONE
BEGIN:VEVENT
DTSTART;TZID=America/Los_Angeles:20280119T182900
DTEND;TZID=America/Los_Angeles:20280119T182900
DTSTAMP:20260420T173336
CREATED:20260213T173854Z
LAST-MODIFIED:20260213T173854Z
UID:10009463-1831919340-1831919340@portsusancamping.club
SUMMARY:Cribbage
DESCRIPTION:Club 50 @ Adult Center \n6:29pm
URL:https://portsusancamping.club/event/cribbage-3/2028-01-19/
LOCATION:Club 50
CATEGORIES:Activities
END:VEVENT
BEGIN:VEVENT
DTSTART;TZID=America/Los_Angeles:20280121T180000
DTEND;TZID=America/Los_Angeles:20280121T180000
DTSTAMP:20260420T173336
CREATED:20260410T165637Z
LAST-MODIFIED:20260410T165638Z
UID:10010039-1832090400-1832090400@portsusancamping.club
SUMMARY:Bingo
DESCRIPTION:Club 50 @ Adult Center \n6pm
URL:https://portsusancamping.club/event/bingo-2/2028-01-21/
LOCATION:Club 50
CATEGORIES:Activities
END:VEVENT
BEGIN:VEVENT
DTSTART;TZID=America/Los_Angeles:20280126T182900
DTEND;TZID=America/Los_Angeles:20280126T182900
DTSTAMP:20260420T173336
CREATED:20260213T173854Z
LAST-MODIFIED:20260213T173854Z
UID:10009464-1832524140-1832524140@portsusancamping.club
SUMMARY:Cribbage
DESCRIPTION:Club 50 @ Adult Center \n6:29pm
URL:https://portsusancamping.club/event/cribbage-3/2028-01-26/
LOCATION:Club 50
CATEGORIES:Activities
END:VEVENT
BEGIN:VEVENT
DTSTART;TZID=America/Los_Angeles:20280202T182900
DTEND;TZID=America/Los_Angeles:20280202T182900
DTSTAMP:20260420T173336
CREATED:20260213T173854Z
LAST-MODIFIED:20260213T173854Z
UID:10009465-1833128940-1833128940@portsusancamping.club
SUMMARY:Cribbage
DESCRIPTION:Club 50 @ Adult Center \n6:29pm
URL:https://portsusancamping.club/event/cribbage-3/2028-02-02/
LOCATION:Club 50
CATEGORIES:Activities
END:VEVENT
BEGIN:VEVENT
DTSTART;TZID=America/Los_Angeles:20280204T180000
DTEND;TZID=America/Los_Angeles:20280204T180000
DTSTAMP:20260420T173336
CREATED:20260410T165505Z
LAST-MODIFIED:20260410T165507Z
UID:10009815-1833300000-1833300000@portsusancamping.club
SUMMARY:Bunco
DESCRIPTION:Club 50 @ Adult Center \n6pm
URL:https://portsusancamping.club/event/bunco-2-2/2028-02-04/
LOCATION:Club 50
CATEGORIES:Activities
END:VEVENT
BEGIN:VEVENT
DTSTART;TZID=America/Los_Angeles:20280209T182900
DTEND;TZID=America/Los_Angeles:20280209T182900
DTSTAMP:20260420T173336
CREATED:20260213T173854Z
LAST-MODIFIED:20260213T173854Z
UID:10009466-1833733740-1833733740@portsusancamping.club
SUMMARY:Cribbage
DESCRIPTION:Club 50 @ Adult Center \n6:29pm
URL:https://portsusancamping.club/event/cribbage-3/2028-02-09/
LOCATION:Club 50
CATEGORIES:Activities
END:VEVENT
BEGIN:VEVENT
DTSTART;TZID=America/Los_Angeles:20280216T182900
DTEND;TZID=America/Los_Angeles:20280216T182900
DTSTAMP:20260420T173336
CREATED:20260213T173854Z
LAST-MODIFIED:20260213T173854Z
UID:10009467-1834338540-1834338540@portsusancamping.club
SUMMARY:Cribbage
DESCRIPTION:Club 50 @ Adult Center \n6:29pm
URL:https://portsusancamping.club/event/cribbage-3/2028-02-16/
LOCATION:Club 50
CATEGORIES:Activities
END:VEVENT
BEGIN:VEVENT
DTSTART;TZID=America/Los_Angeles:20280218T180000
DTEND;TZID=America/Los_Angeles:20280218T180000
DTSTAMP:20260420T173336
CREATED:20260410T165637Z
LAST-MODIFIED:20260410T165638Z
UID:10010040-1834509600-1834509600@portsusancamping.club
SUMMARY:Bingo
DESCRIPTION:Club 50 @ Adult Center \n6pm
URL:https://portsusancamping.club/event/bingo-2/2028-02-18/
LOCATION:Club 50
CATEGORIES:Activities
END:VEVENT
BEGIN:VEVENT
DTSTART;TZID=America/Los_Angeles:20280223T182900
DTEND;TZID=America/Los_Angeles:20280223T182900
DTSTAMP:20260420T173336
CREATED:20260213T173854Z
LAST-MODIFIED:20260213T173854Z
UID:10009468-1834943340-1834943340@portsusancamping.club
SUMMARY:Cribbage
DESCRIPTION:Club 50 @ Adult Center \n6:29pm
URL:https://portsusancamping.club/event/cribbage-3/2028-02-23/
LOCATION:Club 50
CATEGORIES:Activities
END:VEVENT
BEGIN:VEVENT
DTSTART;TZID=America/Los_Angeles:20280301T182900
DTEND;TZID=America/Los_Angeles:20280301T182900
DTSTAMP:20260420T173336
CREATED:20260213T173854Z
LAST-MODIFIED:20260213T173854Z
UID:10009469-1835548140-1835548140@portsusancamping.club
SUMMARY:Cribbage
DESCRIPTION:Club 50 @ Adult Center \n6:29pm
URL:https://portsusancamping.club/event/cribbage-3/2028-03-01/
LOCATION:Club 50
CATEGORIES:Activities
END:VEVENT
BEGIN:VEVENT
DTSTART;TZID=America/Los_Angeles:20280303T180000
DTEND;TZID=America/Los_Angeles:20280303T180000
DTSTAMP:20260420T173336
CREATED:20260410T165505Z
LAST-MODIFIED:20260410T165507Z
UID:10009817-1835719200-1835719200@portsusancamping.club
SUMMARY:Bunco
DESCRIPTION:Club 50 @ Adult Center \n6pm
URL:https://portsusancamping.club/event/bunco-2-2/2028-03-03/
LOCATION:Club 50
CATEGORIES:Activities
END:VEVENT
BEGIN:VEVENT
DTSTART;TZID=America/Los_Angeles:20280308T182900
DTEND;TZID=America/Los_Angeles:20280308T182900
DTSTAMP:20260420T173336
CREATED:20260213T173854Z
LAST-MODIFIED:20260213T173854Z
UID:10009470-1836152940-1836152940@portsusancamping.club
SUMMARY:Cribbage
DESCRIPTION:Club 50 @ Adult Center \n6:29pm
URL:https://portsusancamping.club/event/cribbage-3/2028-03-08/
LOCATION:Club 50
CATEGORIES:Activities
END:VEVENT
BEGIN:VEVENT
DTSTART;TZID=America/Los_Angeles:20280315T182900
DTEND;TZID=America/Los_Angeles:20280315T182900
DTSTAMP:20260420T173336
CREATED:20260213T173854Z
LAST-MODIFIED:20260213T173854Z
UID:10009471-1836757740-1836757740@portsusancamping.club
SUMMARY:Cribbage
DESCRIPTION:Club 50 @ Adult Center \n6:29pm
URL:https://portsusancamping.club/event/cribbage-3/2028-03-15/
LOCATION:Club 50
CATEGORIES:Activities
END:VEVENT
BEGIN:VEVENT
DTSTART;TZID=America/Los_Angeles:20280317T180000
DTEND;TZID=America/Los_Angeles:20280317T180000
DTSTAMP:20260420T173336
CREATED:20260410T165637Z
LAST-MODIFIED:20260410T165638Z
UID:10010041-1836928800-1836928800@portsusancamping.club
SUMMARY:Bingo
DESCRIPTION:Club 50 @ Adult Center \n6pm
URL:https://portsusancamping.club/event/bingo-2/2028-03-17/
LOCATION:Club 50
CATEGORIES:Activities
END:VEVENT
BEGIN:VEVENT
DTSTART;TZID=America/Los_Angeles:20280322T182900
DTEND;TZID=America/Los_Angeles:20280322T182900
DTSTAMP:20260420T173336
CREATED:20260213T173854Z
LAST-MODIFIED:20260213T173854Z
UID:10009472-1837362540-1837362540@portsusancamping.club
SUMMARY:Cribbage
DESCRIPTION:Club 50 @ Adult Center \n6:29pm
URL:https://portsusancamping.club/event/cribbage-3/2028-03-22/
LOCATION:Club 50
CATEGORIES:Activities
END:VEVENT
BEGIN:VEVENT
DTSTART;TZID=America/Los_Angeles:20280329T182900
DTEND;TZID=America/Los_Angeles:20280329T182900
DTSTAMP:20260420T173336
CREATED:20260213T173854Z
LAST-MODIFIED:20260213T173854Z
UID:10009473-1837967340-1837967340@portsusancamping.club
SUMMARY:Cribbage
DESCRIPTION:Club 50 @ Adult Center \n6:29pm
URL:https://portsusancamping.club/event/cribbage-3/2028-03-29/
LOCATION:Club 50
CATEGORIES:Activities
END:VEVENT
BEGIN:VEVENT
DTSTART;TZID=America/Los_Angeles:20280405T182900
DTEND;TZID=America/Los_Angeles:20280405T182900
DTSTAMP:20260420T173336
CREATED:20260213T173854Z
LAST-MODIFIED:20260213T173854Z
UID:10009474-1838572140-1838572140@portsusancamping.club
SUMMARY:Cribbage
DESCRIPTION:Club 50 @ Adult Center \n6:29pm
URL:https://portsusancamping.club/event/cribbage-3/2028-04-05/
LOCATION:Club 50
CATEGORIES:Activities
END:VEVENT
BEGIN:VEVENT
DTSTART;TZID=America/Los_Angeles:20280407T180000
DTEND;TZID=America/Los_Angeles:20280407T180000
DTSTAMP:20260420T173336
CREATED:20260410T165505Z
LAST-MODIFIED:20260410T165507Z
UID:10010008-1838743200-1838743200@portsusancamping.club
SUMMARY:Bunco
DESCRIPTION:Club 50 @ Adult Center \n6pm
URL:https://portsusancamping.club/event/bunco-2-2/2028-04-07/
LOCATION:Club 50
CATEGORIES:Activities
END:VEVENT
BEGIN:VEVENT
DTSTART;TZID=America/Los_Angeles:20280412T182900
DTEND;TZID=America/Los_Angeles:20280412T182900
DTSTAMP:20260420T173336
CREATED:20260213T173854Z
LAST-MODIFIED:20260213T173854Z
UID:10009475-1839176940-1839176940@portsusancamping.club
SUMMARY:Cribbage
DESCRIPTION:Club 50 @ Adult Center \n6:29pm
URL:https://portsusancamping.club/event/cribbage-3/2028-04-12/
LOCATION:Club 50
CATEGORIES:Activities
END:VEVENT
BEGIN:VEVENT
DTSTART;TZID=America/Los_Angeles:20280419T182900
DTEND;TZID=America/Los_Angeles:20280419T182900
DTSTAMP:20260420T173336
CREATED:20260213T173854Z
LAST-MODIFIED:20260213T173854Z
UID:10009476-1839781740-1839781740@portsusancamping.club
SUMMARY:Cribbage
DESCRIPTION:Club 50 @ Adult Center \n6:29pm
URL:https://portsusancamping.club/event/cribbage-3/2028-04-19/
LOCATION:Club 50
CATEGORIES:Activities
END:VEVENT
BEGIN:VEVENT
DTSTART;TZID=America/Los_Angeles:20280421T180000
DTEND;TZID=America/Los_Angeles:20280421T180000
DTSTAMP:20260420T173336
CREATED:20260410T165637Z
LAST-MODIFIED:20260410T165638Z
UID:10009687-1839952800-1839952800@portsusancamping.club
SUMMARY:Bingo
DESCRIPTION:Club 50 @ Adult Center \n6pm
URL:https://portsusancamping.club/event/bingo-2/2028-04-21/
LOCATION:Club 50
CATEGORIES:Activities
END:VEVENT
BEGIN:VEVENT
DTSTART;TZID=America/Los_Angeles:20280426T182900
DTEND;TZID=America/Los_Angeles:20280426T182900
DTSTAMP:20260420T173336
CREATED:20260213T173854Z
LAST-MODIFIED:20260213T173854Z
UID:10009477-1840386540-1840386540@portsusancamping.club
SUMMARY:Cribbage
DESCRIPTION:Club 50 @ Adult Center \n6:29pm
URL:https://portsusancamping.club/event/cribbage-3/2028-04-26/
LOCATION:Club 50
CATEGORIES:Activities
END:VEVENT
BEGIN:VEVENT
DTSTART;TZID=America/Los_Angeles:20280503T182900
DTEND;TZID=America/Los_Angeles:20280503T182900
DTSTAMP:20260420T173336
CREATED:20260213T173854Z
LAST-MODIFIED:20260213T173854Z
UID:10009478-1840991340-1840991340@portsusancamping.club
SUMMARY:Cribbage
DESCRIPTION:Club 50 @ Adult Center \n6:29pm
URL:https://portsusancamping.club/event/cribbage-3/2028-05-03/
LOCATION:Club 50
CATEGORIES:Activities
END:VEVENT
BEGIN:VEVENT
DTSTART;TZID=America/Los_Angeles:20280505T180000
DTEND;TZID=America/Los_Angeles:20280505T180000
DTSTAMP:20260420T173336
CREATED:20260410T165505Z
LAST-MODIFIED:20260410T165507Z
UID:10010009-1841162400-1841162400@portsusancamping.club
SUMMARY:Bunco
DESCRIPTION:Club 50 @ Adult Center \n6pm
URL:https://portsusancamping.club/event/bunco-2-2/2028-05-05/
LOCATION:Club 50
CATEGORIES:Activities
END:VEVENT
BEGIN:VEVENT
DTSTART;TZID=America/Los_Angeles:20280510T182900
DTEND;TZID=America/Los_Angeles:20280510T182900
DTSTAMP:20260420T173336
CREATED:20260213T173854Z
LAST-MODIFIED:20260213T173854Z
UID:10009479-1841596140-1841596140@portsusancamping.club
SUMMARY:Cribbage
DESCRIPTION:Club 50 @ Adult Center \n6:29pm
URL:https://portsusancamping.club/event/cribbage-3/2028-05-10/
LOCATION:Club 50
CATEGORIES:Activities
END:VEVENT
BEGIN:VEVENT
DTSTART;TZID=America/Los_Angeles:20280517T182900
DTEND;TZID=America/Los_Angeles:20280517T182900
DTSTAMP:20260420T173336
CREATED:20260213T173854Z
LAST-MODIFIED:20260213T173854Z
UID:10009480-1842200940-1842200940@portsusancamping.club
SUMMARY:Cribbage
DESCRIPTION:Club 50 @ Adult Center \n6:29pm
URL:https://portsusancamping.club/event/cribbage-3/2028-05-17/
LOCATION:Club 50
CATEGORIES:Activities
END:VEVENT
BEGIN:VEVENT
DTSTART;TZID=America/Los_Angeles:20280519T180000
DTEND;TZID=America/Los_Angeles:20280519T180000
DTSTAMP:20260420T173336
CREATED:20260410T165637Z
LAST-MODIFIED:20260410T165638Z
UID:10009689-1842372000-1842372000@portsusancamping.club
SUMMARY:Bingo
DESCRIPTION:Club 50 @ Adult Center \n6pm
URL:https://portsusancamping.club/event/bingo-2/2028-05-19/
LOCATION:Club 50
CATEGORIES:Activities
END:VEVENT
BEGIN:VEVENT
DTSTART;TZID=America/Los_Angeles:20280524T182900
DTEND;TZID=America/Los_Angeles:20280524T182900
DTSTAMP:20260420T173336
CREATED:20260213T173854Z
LAST-MODIFIED:20260213T173854Z
UID:10009481-1842805740-1842805740@portsusancamping.club
SUMMARY:Cribbage
DESCRIPTION:Club 50 @ Adult Center \n6:29pm
URL:https://portsusancamping.club/event/cribbage-3/2028-05-24/
LOCATION:Club 50
CATEGORIES:Activities
END:VEVENT
BEGIN:VEVENT
DTSTART;TZID=America/Los_Angeles:20280531T182900
DTEND;TZID=America/Los_Angeles:20280531T182900
DTSTAMP:20260420T173336
CREATED:20260213T173854Z
LAST-MODIFIED:20260213T173854Z
UID:10009482-1843410540-1843410540@portsusancamping.club
SUMMARY:Cribbage
DESCRIPTION:Club 50 @ Adult Center \n6:29pm
URL:https://portsusancamping.club/event/cribbage-3/2028-05-31/
LOCATION:Club 50
CATEGORIES:Activities
END:VEVENT
BEGIN:VEVENT
DTSTART;TZID=America/Los_Angeles:20280602T180000
DTEND;TZID=America/Los_Angeles:20280602T180000
DTSTAMP:20260420T173336
CREATED:20260410T165505Z
LAST-MODIFIED:20260410T165507Z
UID:10010010-1843581600-1843581600@portsusancamping.club
SUMMARY:Bunco
DESCRIPTION:Club 50 @ Adult Center \n6pm
URL:https://portsusancamping.club/event/bunco-2-2/2028-06-02/
LOCATION:Club 50
CATEGORIES:Activities
END:VEVENT
END:VCALENDAR