BEGIN:VCALENDAR
VERSION:2.0
PRODID:-//Port Susan Camping Club - ECPv6.15.20//NONSGML v1.0//EN
CALSCALE:GREGORIAN
METHOD:PUBLISH
X-WR-CALNAME:Port Susan Camping Club
X-ORIGINAL-URL:https://portsusancamping.club
X-WR-CALDESC:Events for Port Susan Camping Club
REFRESH-INTERVAL;VALUE=DURATION:PT1H
X-Robots-Tag:noindex
X-PUBLISHED-TTL:PT1H
BEGIN:VTIMEZONE
TZID:America/Los_Angeles
BEGIN:DAYLIGHT
TZOFFSETFROM:-0800
TZOFFSETTO:-0700
TZNAME:PDT
DTSTART:20270314T100000
END:DAYLIGHT
BEGIN:STANDARD
TZOFFSETFROM:-0700
TZOFFSETTO:-0800
TZNAME:PST
DTSTART:20271107T090000
END:STANDARD
BEGIN:DAYLIGHT
TZOFFSETFROM:-0800
TZOFFSETTO:-0700
TZNAME:PDT
DTSTART:20280312T100000
END:DAYLIGHT
BEGIN:STANDARD
TZOFFSETFROM:-0700
TZOFFSETTO:-0800
TZNAME:PST
DTSTART:20281105T090000
END:STANDARD
BEGIN:DAYLIGHT
TZOFFSETFROM:-0800
TZOFFSETTO:-0700
TZNAME:PDT
DTSTART:20290311T100000
END:DAYLIGHT
BEGIN:STANDARD
TZOFFSETFROM:-0700
TZOFFSETTO:-0800
TZNAME:PST
DTSTART:20291104T090000
END:STANDARD
END:VTIMEZONE
BEGIN:VEVENT
DTSTART;TZID=America/Los_Angeles:20280510T182900
DTEND;TZID=America/Los_Angeles:20280510T182900
DTSTAMP:20260420T202603
CREATED:20260213T173854Z
LAST-MODIFIED:20260213T173854Z
UID:10009479-1841596140-1841596140@portsusancamping.club
SUMMARY:Cribbage
DESCRIPTION:Club 50 @ Adult Center \n6:29pm
URL:https://portsusancamping.club/event/cribbage-3/2028-05-10/
LOCATION:Club 50
CATEGORIES:Activities
END:VEVENT
BEGIN:VEVENT
DTSTART;TZID=America/Los_Angeles:20280517T182900
DTEND;TZID=America/Los_Angeles:20280517T182900
DTSTAMP:20260420T202603
CREATED:20260213T173854Z
LAST-MODIFIED:20260213T173854Z
UID:10009480-1842200940-1842200940@portsusancamping.club
SUMMARY:Cribbage
DESCRIPTION:Club 50 @ Adult Center \n6:29pm
URL:https://portsusancamping.club/event/cribbage-3/2028-05-17/
LOCATION:Club 50
CATEGORIES:Activities
END:VEVENT
BEGIN:VEVENT
DTSTART;TZID=America/Los_Angeles:20280519T180000
DTEND;TZID=America/Los_Angeles:20280519T180000
DTSTAMP:20260420T202603
CREATED:20260410T165637Z
LAST-MODIFIED:20260410T165638Z
UID:10009689-1842372000-1842372000@portsusancamping.club
SUMMARY:Bingo
DESCRIPTION:Club 50 @ Adult Center \n6pm
URL:https://portsusancamping.club/event/bingo-2/2028-05-19/
LOCATION:Club 50
CATEGORIES:Activities
END:VEVENT
BEGIN:VEVENT
DTSTART;TZID=America/Los_Angeles:20280524T182900
DTEND;TZID=America/Los_Angeles:20280524T182900
DTSTAMP:20260420T202603
CREATED:20260213T173854Z
LAST-MODIFIED:20260213T173854Z
UID:10009481-1842805740-1842805740@portsusancamping.club
SUMMARY:Cribbage
DESCRIPTION:Club 50 @ Adult Center \n6:29pm
URL:https://portsusancamping.club/event/cribbage-3/2028-05-24/
LOCATION:Club 50
CATEGORIES:Activities
END:VEVENT
BEGIN:VEVENT
DTSTART;TZID=America/Los_Angeles:20280531T182900
DTEND;TZID=America/Los_Angeles:20280531T182900
DTSTAMP:20260420T202603
CREATED:20260213T173854Z
LAST-MODIFIED:20260213T173854Z
UID:10009482-1843410540-1843410540@portsusancamping.club
SUMMARY:Cribbage
DESCRIPTION:Club 50 @ Adult Center \n6:29pm
URL:https://portsusancamping.club/event/cribbage-3/2028-05-31/
LOCATION:Club 50
CATEGORIES:Activities
END:VEVENT
BEGIN:VEVENT
DTSTART;TZID=America/Los_Angeles:20280602T180000
DTEND;TZID=America/Los_Angeles:20280602T180000
DTSTAMP:20260420T202603
CREATED:20260410T165505Z
LAST-MODIFIED:20260410T165507Z
UID:10010010-1843581600-1843581600@portsusancamping.club
SUMMARY:Bunco
DESCRIPTION:Club 50 @ Adult Center \n6pm
URL:https://portsusancamping.club/event/bunco-2-2/2028-06-02/
LOCATION:Club 50
CATEGORIES:Activities
END:VEVENT
BEGIN:VEVENT
DTSTART;TZID=America/Los_Angeles:20280607T182900
DTEND;TZID=America/Los_Angeles:20280607T182900
DTSTAMP:20260420T202603
CREATED:20260213T173854Z
LAST-MODIFIED:20260213T173854Z
UID:10009483-1844015340-1844015340@portsusancamping.club
SUMMARY:Cribbage
DESCRIPTION:Club 50 @ Adult Center \n6:29pm
URL:https://portsusancamping.club/event/cribbage-3/2028-06-07/
LOCATION:Club 50
CATEGORIES:Activities
END:VEVENT
BEGIN:VEVENT
DTSTART;TZID=America/Los_Angeles:20280614T182900
DTEND;TZID=America/Los_Angeles:20280614T182900
DTSTAMP:20260420T202603
CREATED:20260213T173854Z
LAST-MODIFIED:20260213T173854Z
UID:10009484-1844620140-1844620140@portsusancamping.club
SUMMARY:Cribbage
DESCRIPTION:Club 50 @ Adult Center \n6:29pm
URL:https://portsusancamping.club/event/cribbage-3/2028-06-14/
LOCATION:Club 50
CATEGORIES:Activities
END:VEVENT
BEGIN:VEVENT
DTSTART;TZID=America/Los_Angeles:20280616T180000
DTEND;TZID=America/Los_Angeles:20280616T180000
DTSTAMP:20260420T202603
CREATED:20260410T165637Z
LAST-MODIFIED:20260410T165638Z
UID:10009691-1844791200-1844791200@portsusancamping.club
SUMMARY:Bingo
DESCRIPTION:Club 50 @ Adult Center \n6pm
URL:https://portsusancamping.club/event/bingo-2/2028-06-16/
LOCATION:Club 50
CATEGORIES:Activities
END:VEVENT
BEGIN:VEVENT
DTSTART;TZID=America/Los_Angeles:20280621T182900
DTEND;TZID=America/Los_Angeles:20280621T182900
DTSTAMP:20260420T202603
CREATED:20260213T173854Z
LAST-MODIFIED:20260213T173854Z
UID:10009485-1845224940-1845224940@portsusancamping.club
SUMMARY:Cribbage
DESCRIPTION:Club 50 @ Adult Center \n6:29pm
URL:https://portsusancamping.club/event/cribbage-3/2028-06-21/
LOCATION:Club 50
CATEGORIES:Activities
END:VEVENT
BEGIN:VEVENT
DTSTART;TZID=America/Los_Angeles:20280628T182900
DTEND;TZID=America/Los_Angeles:20280628T182900
DTSTAMP:20260420T202603
CREATED:20260213T173854Z
LAST-MODIFIED:20260213T173854Z
UID:10009486-1845829740-1845829740@portsusancamping.club
SUMMARY:Cribbage
DESCRIPTION:Club 50 @ Adult Center \n6:29pm
URL:https://portsusancamping.club/event/cribbage-3/2028-06-28/
LOCATION:Club 50
CATEGORIES:Activities
END:VEVENT
BEGIN:VEVENT
DTSTART;TZID=America/Los_Angeles:20280705T182900
DTEND;TZID=America/Los_Angeles:20280705T182900
DTSTAMP:20260420T202603
CREATED:20260213T173854Z
LAST-MODIFIED:20260213T173854Z
UID:10009487-1846434540-1846434540@portsusancamping.club
SUMMARY:Cribbage
DESCRIPTION:Club 50 @ Adult Center \n6:29pm
URL:https://portsusancamping.club/event/cribbage-3/2028-07-05/
LOCATION:Club 50
CATEGORIES:Activities
END:VEVENT
BEGIN:VEVENT
DTSTART;TZID=America/Los_Angeles:20280707T180000
DTEND;TZID=America/Los_Angeles:20280707T180000
DTSTAMP:20260420T202603
CREATED:20260410T165505Z
LAST-MODIFIED:20260410T165507Z
UID:10009826-1846605600-1846605600@portsusancamping.club
SUMMARY:Bunco
DESCRIPTION:Club 50 @ Adult Center \n6pm
URL:https://portsusancamping.club/event/bunco-2-2/2028-07-07/
LOCATION:Club 50
CATEGORIES:Activities
END:VEVENT
BEGIN:VEVENT
DTSTART;TZID=America/Los_Angeles:20280712T182900
DTEND;TZID=America/Los_Angeles:20280712T182900
DTSTAMP:20260420T202603
CREATED:20260213T173854Z
LAST-MODIFIED:20260213T173854Z
UID:10009488-1847039340-1847039340@portsusancamping.club
SUMMARY:Cribbage
DESCRIPTION:Club 50 @ Adult Center \n6:29pm
URL:https://portsusancamping.club/event/cribbage-3/2028-07-12/
LOCATION:Club 50
CATEGORIES:Activities
END:VEVENT
BEGIN:VEVENT
DTSTART;TZID=America/Los_Angeles:20280719T182900
DTEND;TZID=America/Los_Angeles:20280719T182900
DTSTAMP:20260420T202603
CREATED:20260213T173854Z
LAST-MODIFIED:20260213T173854Z
UID:10009489-1847644140-1847644140@portsusancamping.club
SUMMARY:Cribbage
DESCRIPTION:Club 50 @ Adult Center \n6:29pm
URL:https://portsusancamping.club/event/cribbage-3/2028-07-19/
LOCATION:Club 50
CATEGORIES:Activities
END:VEVENT
BEGIN:VEVENT
DTSTART;TZID=America/Los_Angeles:20280721T180000
DTEND;TZID=America/Los_Angeles:20280721T180000
DTSTAMP:20260420T202603
CREATED:20260410T165637Z
LAST-MODIFIED:20260410T165638Z
UID:10010042-1847815200-1847815200@portsusancamping.club
SUMMARY:Bingo
DESCRIPTION:Club 50 @ Adult Center \n6pm
URL:https://portsusancamping.club/event/bingo-2/2028-07-21/
LOCATION:Club 50
CATEGORIES:Activities
END:VEVENT
BEGIN:VEVENT
DTSTART;TZID=America/Los_Angeles:20280726T182900
DTEND;TZID=America/Los_Angeles:20280726T182900
DTSTAMP:20260420T202603
CREATED:20260213T173854Z
LAST-MODIFIED:20260213T173854Z
UID:10009490-1848248940-1848248940@portsusancamping.club
SUMMARY:Cribbage
DESCRIPTION:Club 50 @ Adult Center \n6:29pm
URL:https://portsusancamping.club/event/cribbage-3/2028-07-26/
LOCATION:Club 50
CATEGORIES:Activities
END:VEVENT
BEGIN:VEVENT
DTSTART;TZID=America/Los_Angeles:20280802T182900
DTEND;TZID=America/Los_Angeles:20280802T182900
DTSTAMP:20260420T202603
CREATED:20260213T173854Z
LAST-MODIFIED:20260213T173854Z
UID:10009491-1848853740-1848853740@portsusancamping.club
SUMMARY:Cribbage
DESCRIPTION:Club 50 @ Adult Center \n6:29pm
URL:https://portsusancamping.club/event/cribbage-3/2028-08-02/
LOCATION:Club 50
CATEGORIES:Activities
END:VEVENT
BEGIN:VEVENT
DTSTART;TZID=America/Los_Angeles:20280804T180000
DTEND;TZID=America/Los_Angeles:20280804T180000
DTSTAMP:20260420T202603
CREATED:20260410T165505Z
LAST-MODIFIED:20260410T165507Z
UID:10009828-1849024800-1849024800@portsusancamping.club
SUMMARY:Bunco
DESCRIPTION:Club 50 @ Adult Center \n6pm
URL:https://portsusancamping.club/event/bunco-2-2/2028-08-04/
LOCATION:Club 50
CATEGORIES:Activities
END:VEVENT
BEGIN:VEVENT
DTSTART;TZID=America/Los_Angeles:20280809T182900
DTEND;TZID=America/Los_Angeles:20280809T182900
DTSTAMP:20260420T202603
CREATED:20260213T173854Z
LAST-MODIFIED:20260213T173854Z
UID:10009492-1849458540-1849458540@portsusancamping.club
SUMMARY:Cribbage
DESCRIPTION:Club 50 @ Adult Center \n6:29pm
URL:https://portsusancamping.club/event/cribbage-3/2028-08-09/
LOCATION:Club 50
CATEGORIES:Activities
END:VEVENT
BEGIN:VEVENT
DTSTART;TZID=America/Los_Angeles:20280816T182900
DTEND;TZID=America/Los_Angeles:20280816T182900
DTSTAMP:20260420T202603
CREATED:20260213T173854Z
LAST-MODIFIED:20260213T173854Z
UID:10009493-1850063340-1850063340@portsusancamping.club
SUMMARY:Cribbage
DESCRIPTION:Club 50 @ Adult Center \n6:29pm
URL:https://portsusancamping.club/event/cribbage-3/2028-08-16/
LOCATION:Club 50
CATEGORIES:Activities
END:VEVENT
BEGIN:VEVENT
DTSTART;TZID=America/Los_Angeles:20280818T180000
DTEND;TZID=America/Los_Angeles:20280818T180000
DTSTAMP:20260420T202603
CREATED:20260410T165637Z
LAST-MODIFIED:20260410T165638Z
UID:10010043-1850234400-1850234400@portsusancamping.club
SUMMARY:Bingo
DESCRIPTION:Club 50 @ Adult Center \n6pm
URL:https://portsusancamping.club/event/bingo-2/2028-08-18/
LOCATION:Club 50
CATEGORIES:Activities
END:VEVENT
BEGIN:VEVENT
DTSTART;TZID=America/Los_Angeles:20280823T182900
DTEND;TZID=America/Los_Angeles:20280823T182900
DTSTAMP:20260420T202603
CREATED:20260213T173854Z
LAST-MODIFIED:20260213T173854Z
UID:10009494-1850668140-1850668140@portsusancamping.club
SUMMARY:Cribbage
DESCRIPTION:Club 50 @ Adult Center \n6:29pm
URL:https://portsusancamping.club/event/cribbage-3/2028-08-23/
LOCATION:Club 50
CATEGORIES:Activities
END:VEVENT
BEGIN:VEVENT
DTSTART;TZID=America/Los_Angeles:20280830T182900
DTEND;TZID=America/Los_Angeles:20280830T182900
DTSTAMP:20260420T202603
CREATED:20260213T173854Z
LAST-MODIFIED:20260213T173854Z
UID:10009495-1851272940-1851272940@portsusancamping.club
SUMMARY:Cribbage
DESCRIPTION:Club 50 @ Adult Center \n6:29pm
URL:https://portsusancamping.club/event/cribbage-3/2028-08-30/
LOCATION:Club 50
CATEGORIES:Activities
END:VEVENT
BEGIN:VEVENT
DTSTART;TZID=America/Los_Angeles:20280901T180000
DTEND;TZID=America/Los_Angeles:20280901T180000
DTSTAMP:20260420T202603
CREATED:20260410T165505Z
LAST-MODIFIED:20260410T165507Z
UID:10009830-1851444000-1851444000@portsusancamping.club
SUMMARY:Bunco
DESCRIPTION:Club 50 @ Adult Center \n6pm
URL:https://portsusancamping.club/event/bunco-2-2/2028-09-01/
LOCATION:Club 50
CATEGORIES:Activities
END:VEVENT
BEGIN:VEVENT
DTSTART;TZID=America/Los_Angeles:20280906T182900
DTEND;TZID=America/Los_Angeles:20280906T182900
DTSTAMP:20260420T202603
CREATED:20260213T173854Z
LAST-MODIFIED:20260213T173854Z
UID:10009496-1851877740-1851877740@portsusancamping.club
SUMMARY:Cribbage
DESCRIPTION:Club 50 @ Adult Center \n6:29pm
URL:https://portsusancamping.club/event/cribbage-3/2028-09-06/
LOCATION:Club 50
CATEGORIES:Activities
END:VEVENT
BEGIN:VEVENT
DTSTART;TZID=America/Los_Angeles:20280913T182900
DTEND;TZID=America/Los_Angeles:20280913T182900
DTSTAMP:20260420T202603
CREATED:20260213T173854Z
LAST-MODIFIED:20260213T173854Z
UID:10009497-1852482540-1852482540@portsusancamping.club
SUMMARY:Cribbage
DESCRIPTION:Club 50 @ Adult Center \n6:29pm
URL:https://portsusancamping.club/event/cribbage-3/2028-09-13/
LOCATION:Club 50
CATEGORIES:Activities
END:VEVENT
BEGIN:VEVENT
DTSTART;TZID=America/Los_Angeles:20280915T180000
DTEND;TZID=America/Los_Angeles:20280915T180000
DTSTAMP:20260420T202603
CREATED:20260410T165637Z
LAST-MODIFIED:20260410T165638Z
UID:10010044-1852653600-1852653600@portsusancamping.club
SUMMARY:Bingo
DESCRIPTION:Club 50 @ Adult Center \n6pm
URL:https://portsusancamping.club/event/bingo-2/2028-09-15/
LOCATION:Club 50
CATEGORIES:Activities
END:VEVENT
BEGIN:VEVENT
DTSTART;TZID=America/Los_Angeles:20280920T182900
DTEND;TZID=America/Los_Angeles:20280920T182900
DTSTAMP:20260420T202603
CREATED:20260213T173854Z
LAST-MODIFIED:20260213T173854Z
UID:10009498-1853087340-1853087340@portsusancamping.club
SUMMARY:Cribbage
DESCRIPTION:Club 50 @ Adult Center \n6:29pm
URL:https://portsusancamping.club/event/cribbage-3/2028-09-20/
LOCATION:Club 50
CATEGORIES:Activities
END:VEVENT
BEGIN:VEVENT
DTSTART;TZID=America/Los_Angeles:20280927T182900
DTEND;TZID=America/Los_Angeles:20280927T182900
DTSTAMP:20260420T202603
CREATED:20260213T173854Z
LAST-MODIFIED:20260213T173854Z
UID:10009499-1853692140-1853692140@portsusancamping.club
SUMMARY:Cribbage
DESCRIPTION:Club 50 @ Adult Center \n6:29pm
URL:https://portsusancamping.club/event/cribbage-3/2028-09-27/
LOCATION:Club 50
CATEGORIES:Activities
END:VEVENT
END:VCALENDAR