BEGIN:VCALENDAR
VERSION:2.0
PRODID:-//Port Susan Camping Club - ECPv6.15.20//NONSGML v1.0//EN
CALSCALE:GREGORIAN
METHOD:PUBLISH
X-ORIGINAL-URL:https://portsusancamping.club
X-WR-CALDESC:Events for Port Susan Camping Club
REFRESH-INTERVAL;VALUE=DURATION:PT1H
X-Robots-Tag:noindex
X-PUBLISHED-TTL:PT1H
BEGIN:VTIMEZONE
TZID:America/Los_Angeles
BEGIN:DAYLIGHT
TZOFFSETFROM:-0800
TZOFFSETTO:-0700
TZNAME:PDT
DTSTART:20270314T100000
END:DAYLIGHT
BEGIN:STANDARD
TZOFFSETFROM:-0700
TZOFFSETTO:-0800
TZNAME:PST
DTSTART:20271107T090000
END:STANDARD
BEGIN:DAYLIGHT
TZOFFSETFROM:-0800
TZOFFSETTO:-0700
TZNAME:PDT
DTSTART:20280312T100000
END:DAYLIGHT
BEGIN:STANDARD
TZOFFSETFROM:-0700
TZOFFSETTO:-0800
TZNAME:PST
DTSTART:20281105T090000
END:STANDARD
BEGIN:DAYLIGHT
TZOFFSETFROM:-0800
TZOFFSETTO:-0700
TZNAME:PDT
DTSTART:20290311T100000
END:DAYLIGHT
BEGIN:STANDARD
TZOFFSETFROM:-0700
TZOFFSETTO:-0800
TZNAME:PST
DTSTART:20291104T090000
END:STANDARD
BEGIN:DAYLIGHT
TZOFFSETFROM:-0800
TZOFFSETTO:-0700
TZNAME:PDT
DTSTART:20300310T100000
END:DAYLIGHT
BEGIN:STANDARD
TZOFFSETFROM:-0700
TZOFFSETTO:-0800
TZNAME:PST
DTSTART:20301103T090000
END:STANDARD
END:VTIMEZONE
BEGIN:VEVENT
DTSTART;TZID=America/Los_Angeles:20281227T182900
DTEND;TZID=America/Los_Angeles:20281227T182900
DTSTAMP:20260421T013440
CREATED:20260213T173854Z
LAST-MODIFIED:20260213T173854Z
UID:10009512-1861554540-1861554540@portsusancamping.club
SUMMARY:Cribbage
DESCRIPTION:Club 50 @ Adult Center \n6:29pm
URL:https://portsusancamping.club/event/cribbage-3/2028-12-27/
LOCATION:Club 50
CATEGORIES:Activities
END:VEVENT
BEGIN:VEVENT
DTSTART;TZID=America/Los_Angeles:20290103T182900
DTEND;TZID=America/Los_Angeles:20290103T182900
DTSTAMP:20260421T013440
CREATED:20260213T173854Z
LAST-MODIFIED:20260213T173854Z
UID:10009513-1862159340-1862159340@portsusancamping.club
SUMMARY:Cribbage
DESCRIPTION:Club 50 @ Adult Center \n6:29pm
URL:https://portsusancamping.club/event/cribbage-3/2029-01-03/
LOCATION:Club 50
CATEGORIES:Activities
END:VEVENT
BEGIN:VEVENT
DTSTART;TZID=America/Los_Angeles:20290105T180000
DTEND;TZID=America/Los_Angeles:20290105T180000
DTSTAMP:20260421T013440
CREATED:20260410T165505Z
LAST-MODIFIED:20260410T165507Z
UID:10009839-1862330400-1862330400@portsusancamping.club
SUMMARY:Bunco
DESCRIPTION:Club 50 @ Adult Center \n6pm
URL:https://portsusancamping.club/event/bunco-2-2/2029-01-05/
LOCATION:Club 50
CATEGORIES:Activities
END:VEVENT
BEGIN:VEVENT
DTSTART;TZID=America/Los_Angeles:20290110T182900
DTEND;TZID=America/Los_Angeles:20290110T182900
DTSTAMP:20260421T013440
CREATED:20260213T173854Z
LAST-MODIFIED:20260213T173854Z
UID:10009514-1862764140-1862764140@portsusancamping.club
SUMMARY:Cribbage
DESCRIPTION:Club 50 @ Adult Center \n6:29pm
URL:https://portsusancamping.club/event/cribbage-3/2029-01-10/
LOCATION:Club 50
CATEGORIES:Activities
END:VEVENT
BEGIN:VEVENT
DTSTART;TZID=America/Los_Angeles:20290117T182900
DTEND;TZID=America/Los_Angeles:20290117T182900
DTSTAMP:20260421T013440
CREATED:20260213T173854Z
LAST-MODIFIED:20260213T173854Z
UID:10009515-1863368940-1863368940@portsusancamping.club
SUMMARY:Cribbage
DESCRIPTION:Club 50 @ Adult Center \n6:29pm
URL:https://portsusancamping.club/event/cribbage-3/2029-01-17/
LOCATION:Club 50
CATEGORIES:Activities
END:VEVENT
BEGIN:VEVENT
DTSTART;TZID=America/Los_Angeles:20290119T180000
DTEND;TZID=America/Los_Angeles:20290119T180000
DTSTAMP:20260421T013440
CREATED:20260410T165637Z
LAST-MODIFIED:20260410T165638Z
UID:10010045-1863540000-1863540000@portsusancamping.club
SUMMARY:Bingo
DESCRIPTION:Club 50 @ Adult Center \n6pm
URL:https://portsusancamping.club/event/bingo-2/2029-01-19/
LOCATION:Club 50
CATEGORIES:Activities
END:VEVENT
BEGIN:VEVENT
DTSTART;TZID=America/Los_Angeles:20290124T182900
DTEND;TZID=America/Los_Angeles:20290124T182900
DTSTAMP:20260421T013440
CREATED:20260213T173854Z
LAST-MODIFIED:20260213T173854Z
UID:10009516-1863973740-1863973740@portsusancamping.club
SUMMARY:Cribbage
DESCRIPTION:Club 50 @ Adult Center \n6:29pm
URL:https://portsusancamping.club/event/cribbage-3/2029-01-24/
LOCATION:Club 50
CATEGORIES:Activities
END:VEVENT
BEGIN:VEVENT
DTSTART;TZID=America/Los_Angeles:20290131T182900
DTEND;TZID=America/Los_Angeles:20290131T182900
DTSTAMP:20260421T013440
CREATED:20260213T173854Z
LAST-MODIFIED:20260213T173854Z
UID:10009517-1864578540-1864578540@portsusancamping.club
SUMMARY:Cribbage
DESCRIPTION:Club 50 @ Adult Center \n6:29pm
URL:https://portsusancamping.club/event/cribbage-3/2029-01-31/
LOCATION:Club 50
CATEGORIES:Activities
END:VEVENT
BEGIN:VEVENT
DTSTART;TZID=America/Los_Angeles:20290202T180000
DTEND;TZID=America/Los_Angeles:20290202T180000
DTSTAMP:20260421T013440
CREATED:20260410T165505Z
LAST-MODIFIED:20260410T165507Z
UID:10009841-1864749600-1864749600@portsusancamping.club
SUMMARY:Bunco
DESCRIPTION:Club 50 @ Adult Center \n6pm
URL:https://portsusancamping.club/event/bunco-2-2/2029-02-02/
LOCATION:Club 50
CATEGORIES:Activities
END:VEVENT
BEGIN:VEVENT
DTSTART;TZID=America/Los_Angeles:20290207T182900
DTEND;TZID=America/Los_Angeles:20290207T182900
DTSTAMP:20260421T013440
CREATED:20260213T173854Z
LAST-MODIFIED:20260213T173854Z
UID:10009518-1865183340-1865183340@portsusancamping.club
SUMMARY:Cribbage
DESCRIPTION:Club 50 @ Adult Center \n6:29pm
URL:https://portsusancamping.club/event/cribbage-3/2029-02-07/
LOCATION:Club 50
CATEGORIES:Activities
END:VEVENT
BEGIN:VEVENT
DTSTART;TZID=America/Los_Angeles:20290214T182900
DTEND;TZID=America/Los_Angeles:20290214T182900
DTSTAMP:20260421T013440
CREATED:20260213T173854Z
LAST-MODIFIED:20260213T173854Z
UID:10009519-1865788140-1865788140@portsusancamping.club
SUMMARY:Cribbage
DESCRIPTION:Club 50 @ Adult Center \n6:29pm
URL:https://portsusancamping.club/event/cribbage-3/2029-02-14/
LOCATION:Club 50
CATEGORIES:Activities
END:VEVENT
BEGIN:VEVENT
DTSTART;TZID=America/Los_Angeles:20290216T180000
DTEND;TZID=America/Los_Angeles:20290216T180000
DTSTAMP:20260421T013440
CREATED:20260410T165637Z
LAST-MODIFIED:20260410T165638Z
UID:10010046-1865959200-1865959200@portsusancamping.club
SUMMARY:Bingo
DESCRIPTION:Club 50 @ Adult Center \n6pm
URL:https://portsusancamping.club/event/bingo-2/2029-02-16/
LOCATION:Club 50
CATEGORIES:Activities
END:VEVENT
BEGIN:VEVENT
DTSTART;TZID=America/Los_Angeles:20290221T182900
DTEND;TZID=America/Los_Angeles:20290221T182900
DTSTAMP:20260421T013440
CREATED:20260213T173854Z
LAST-MODIFIED:20260213T173854Z
UID:10009520-1866392940-1866392940@portsusancamping.club
SUMMARY:Cribbage
DESCRIPTION:Club 50 @ Adult Center \n6:29pm
URL:https://portsusancamping.club/event/cribbage-3/2029-02-21/
LOCATION:Club 50
CATEGORIES:Activities
END:VEVENT
BEGIN:VEVENT
DTSTART;TZID=America/Los_Angeles:20290228T182900
DTEND;TZID=America/Los_Angeles:20290228T182900
DTSTAMP:20260421T013440
CREATED:20260213T173854Z
LAST-MODIFIED:20260213T173854Z
UID:10009521-1866997740-1866997740@portsusancamping.club
SUMMARY:Cribbage
DESCRIPTION:Club 50 @ Adult Center \n6:29pm
URL:https://portsusancamping.club/event/cribbage-3/2029-02-28/
LOCATION:Club 50
CATEGORIES:Activities
END:VEVENT
BEGIN:VEVENT
DTSTART;TZID=America/Los_Angeles:20290302T180000
DTEND;TZID=America/Los_Angeles:20290302T180000
DTSTAMP:20260421T013440
CREATED:20260410T165505Z
LAST-MODIFIED:20260410T165507Z
UID:10009843-1867168800-1867168800@portsusancamping.club
SUMMARY:Bunco
DESCRIPTION:Club 50 @ Adult Center \n6pm
URL:https://portsusancamping.club/event/bunco-2-2/2029-03-02/
LOCATION:Club 50
CATEGORIES:Activities
END:VEVENT
BEGIN:VEVENT
DTSTART;TZID=America/Los_Angeles:20290307T182900
DTEND;TZID=America/Los_Angeles:20290307T182900
DTSTAMP:20260421T013440
CREATED:20260213T173854Z
LAST-MODIFIED:20260213T173854Z
UID:10009522-1867602540-1867602540@portsusancamping.club
SUMMARY:Cribbage
DESCRIPTION:Club 50 @ Adult Center \n6:29pm
URL:https://portsusancamping.club/event/cribbage-3/2029-03-07/
LOCATION:Club 50
CATEGORIES:Activities
END:VEVENT
BEGIN:VEVENT
DTSTART;TZID=America/Los_Angeles:20290314T182900
DTEND;TZID=America/Los_Angeles:20290314T182900
DTSTAMP:20260421T013440
CREATED:20260213T173854Z
LAST-MODIFIED:20260213T173854Z
UID:10009523-1868207340-1868207340@portsusancamping.club
SUMMARY:Cribbage
DESCRIPTION:Club 50 @ Adult Center \n6:29pm
URL:https://portsusancamping.club/event/cribbage-3/2029-03-14/
LOCATION:Club 50
CATEGORIES:Activities
END:VEVENT
BEGIN:VEVENT
DTSTART;TZID=America/Los_Angeles:20290316T180000
DTEND;TZID=America/Los_Angeles:20290316T180000
DTSTAMP:20260421T013440
CREATED:20260410T165637Z
LAST-MODIFIED:20260410T165638Z
UID:10010047-1868378400-1868378400@portsusancamping.club
SUMMARY:Bingo
DESCRIPTION:Club 50 @ Adult Center \n6pm
URL:https://portsusancamping.club/event/bingo-2/2029-03-16/
LOCATION:Club 50
CATEGORIES:Activities
END:VEVENT
BEGIN:VEVENT
DTSTART;TZID=America/Los_Angeles:20290321T182900
DTEND;TZID=America/Los_Angeles:20290321T182900
DTSTAMP:20260421T013440
CREATED:20260213T173854Z
LAST-MODIFIED:20260213T173854Z
UID:10009524-1868812140-1868812140@portsusancamping.club
SUMMARY:Cribbage
DESCRIPTION:Club 50 @ Adult Center \n6:29pm
URL:https://portsusancamping.club/event/cribbage-3/2029-03-21/
LOCATION:Club 50
CATEGORIES:Activities
END:VEVENT
BEGIN:VEVENT
DTSTART;TZID=America/Los_Angeles:20290328T182900
DTEND;TZID=America/Los_Angeles:20290328T182900
DTSTAMP:20260421T013440
CREATED:20260213T173854Z
LAST-MODIFIED:20260213T173854Z
UID:10009525-1869416940-1869416940@portsusancamping.club
SUMMARY:Cribbage
DESCRIPTION:Club 50 @ Adult Center \n6:29pm
URL:https://portsusancamping.club/event/cribbage-3/2029-03-28/
LOCATION:Club 50
CATEGORIES:Activities
END:VEVENT
BEGIN:VEVENT
DTSTART;TZID=America/Los_Angeles:20290404T182900
DTEND;TZID=America/Los_Angeles:20290404T182900
DTSTAMP:20260421T013440
CREATED:20260213T173854Z
LAST-MODIFIED:20260213T173854Z
UID:10009526-1870021740-1870021740@portsusancamping.club
SUMMARY:Cribbage
DESCRIPTION:Club 50 @ Adult Center \n6:29pm
URL:https://portsusancamping.club/event/cribbage-3/2029-04-04/
LOCATION:Club 50
CATEGORIES:Activities
END:VEVENT
BEGIN:VEVENT
DTSTART;TZID=America/Los_Angeles:20290406T180000
DTEND;TZID=America/Los_Angeles:20290406T180000
DTSTAMP:20260421T013440
CREATED:20260410T165505Z
LAST-MODIFIED:20260410T165507Z
UID:10010014-1870192800-1870192800@portsusancamping.club
SUMMARY:Bunco
DESCRIPTION:Club 50 @ Adult Center \n6pm
URL:https://portsusancamping.club/event/bunco-2-2/2029-04-06/
LOCATION:Club 50
CATEGORIES:Activities
END:VEVENT
BEGIN:VEVENT
DTSTART;TZID=America/Los_Angeles:20290411T182900
DTEND;TZID=America/Los_Angeles:20290411T182900
DTSTAMP:20260421T013440
CREATED:20260213T173854Z
LAST-MODIFIED:20260213T173854Z
UID:10009527-1870626540-1870626540@portsusancamping.club
SUMMARY:Cribbage
DESCRIPTION:Club 50 @ Adult Center \n6:29pm
URL:https://portsusancamping.club/event/cribbage-3/2029-04-11/
LOCATION:Club 50
CATEGORIES:Activities
END:VEVENT
BEGIN:VEVENT
DTSTART;TZID=America/Los_Angeles:20290418T182900
DTEND;TZID=America/Los_Angeles:20290418T182900
DTSTAMP:20260421T013440
CREATED:20260213T173854Z
LAST-MODIFIED:20260213T173854Z
UID:10009528-1871231340-1871231340@portsusancamping.club
SUMMARY:Cribbage
DESCRIPTION:Club 50 @ Adult Center \n6:29pm
URL:https://portsusancamping.club/event/cribbage-3/2029-04-18/
LOCATION:Club 50
CATEGORIES:Activities
END:VEVENT
BEGIN:VEVENT
DTSTART;TZID=America/Los_Angeles:20290420T180000
DTEND;TZID=America/Los_Angeles:20290420T180000
DTSTAMP:20260421T013440
CREATED:20260410T165637Z
LAST-MODIFIED:20260410T165638Z
UID:10009713-1871402400-1871402400@portsusancamping.club
SUMMARY:Bingo
DESCRIPTION:Club 50 @ Adult Center \n6pm
URL:https://portsusancamping.club/event/bingo-2/2029-04-20/
LOCATION:Club 50
CATEGORIES:Activities
END:VEVENT
BEGIN:VEVENT
DTSTART;TZID=America/Los_Angeles:20290425T182900
DTEND;TZID=America/Los_Angeles:20290425T182900
DTSTAMP:20260421T013440
CREATED:20260213T173854Z
LAST-MODIFIED:20260213T173854Z
UID:10009529-1871836140-1871836140@portsusancamping.club
SUMMARY:Cribbage
DESCRIPTION:Club 50 @ Adult Center \n6:29pm
URL:https://portsusancamping.club/event/cribbage-3/2029-04-25/
LOCATION:Club 50
CATEGORIES:Activities
END:VEVENT
BEGIN:VEVENT
DTSTART;TZID=America/Los_Angeles:20290502T182900
DTEND;TZID=America/Los_Angeles:20290502T182900
DTSTAMP:20260421T013440
CREATED:20260213T173854Z
LAST-MODIFIED:20260213T173854Z
UID:10009530-1872440940-1872440940@portsusancamping.club
SUMMARY:Cribbage
DESCRIPTION:Club 50 @ Adult Center \n6:29pm
URL:https://portsusancamping.club/event/cribbage-3/2029-05-02/
LOCATION:Club 50
CATEGORIES:Activities
END:VEVENT
BEGIN:VEVENT
DTSTART;TZID=America/Los_Angeles:20290504T180000
DTEND;TZID=America/Los_Angeles:20290504T180000
DTSTAMP:20260421T013440
CREATED:20260410T165505Z
LAST-MODIFIED:20260410T165507Z
UID:10010015-1872612000-1872612000@portsusancamping.club
SUMMARY:Bunco
DESCRIPTION:Club 50 @ Adult Center \n6pm
URL:https://portsusancamping.club/event/bunco-2-2/2029-05-04/
LOCATION:Club 50
CATEGORIES:Activities
END:VEVENT
BEGIN:VEVENT
DTSTART;TZID=America/Los_Angeles:20290509T182900
DTEND;TZID=America/Los_Angeles:20290509T182900
DTSTAMP:20260421T013440
CREATED:20260213T173854Z
LAST-MODIFIED:20260213T173854Z
UID:10009531-1873045740-1873045740@portsusancamping.club
SUMMARY:Cribbage
DESCRIPTION:Club 50 @ Adult Center \n6:29pm
URL:https://portsusancamping.club/event/cribbage-3/2029-05-09/
LOCATION:Club 50
CATEGORIES:Activities
END:VEVENT
BEGIN:VEVENT
DTSTART;TZID=America/Los_Angeles:20290516T182900
DTEND;TZID=America/Los_Angeles:20290516T182900
DTSTAMP:20260421T013440
CREATED:20260213T173854Z
LAST-MODIFIED:20260213T173854Z
UID:10009532-1873650540-1873650540@portsusancamping.club
SUMMARY:Cribbage
DESCRIPTION:Club 50 @ Adult Center \n6:29pm
URL:https://portsusancamping.club/event/cribbage-3/2029-05-16/
LOCATION:Club 50
CATEGORIES:Activities
END:VEVENT
END:VCALENDAR