BEGIN:VCALENDAR
VERSION:2.0
PRODID:-//Port Susan Camping Club - ECPv6.15.20//NONSGML v1.0//EN
CALSCALE:GREGORIAN
METHOD:PUBLISH
X-WR-CALNAME:Port Susan Camping Club
X-ORIGINAL-URL:https://portsusancamping.club
X-WR-CALDESC:Events for Port Susan Camping Club
REFRESH-INTERVAL;VALUE=DURATION:PT1H
X-Robots-Tag:noindex
X-PUBLISHED-TTL:PT1H
BEGIN:VTIMEZONE
TZID:America/Los_Angeles
BEGIN:DAYLIGHT
TZOFFSETFROM:-0800
TZOFFSETTO:-0700
TZNAME:PDT
DTSTART:20280312T100000
END:DAYLIGHT
BEGIN:STANDARD
TZOFFSETFROM:-0700
TZOFFSETTO:-0800
TZNAME:PST
DTSTART:20281105T090000
END:STANDARD
BEGIN:DAYLIGHT
TZOFFSETFROM:-0800
TZOFFSETTO:-0700
TZNAME:PDT
DTSTART:20290311T100000
END:DAYLIGHT
BEGIN:STANDARD
TZOFFSETFROM:-0700
TZOFFSETTO:-0800
TZNAME:PST
DTSTART:20291104T090000
END:STANDARD
BEGIN:DAYLIGHT
TZOFFSETFROM:-0800
TZOFFSETTO:-0700
TZNAME:PDT
DTSTART:20300310T100000
END:DAYLIGHT
BEGIN:STANDARD
TZOFFSETFROM:-0700
TZOFFSETTO:-0800
TZNAME:PST
DTSTART:20301103T090000
END:STANDARD
END:VTIMEZONE
BEGIN:VEVENT
DTSTART;TZID=America/Los_Angeles:20290615T180000
DTEND;TZID=America/Los_Angeles:20290615T180000
DTSTAMP:20260421T052214
CREATED:20260410T165637Z
LAST-MODIFIED:20260410T165638Z
UID:10009717-1876240800-1876240800@portsusancamping.club
SUMMARY:Bingo
DESCRIPTION:Club 50 @ Adult Center \n6pm
URL:https://portsusancamping.club/event/bingo-2/2029-06-15/
LOCATION:Club 50
CATEGORIES:Activities
END:VEVENT
BEGIN:VEVENT
DTSTART;TZID=America/Los_Angeles:20290620T182900
DTEND;TZID=America/Los_Angeles:20290620T182900
DTSTAMP:20260421T052214
CREATED:20260213T173854Z
LAST-MODIFIED:20260213T173854Z
UID:10009537-1876674540-1876674540@portsusancamping.club
SUMMARY:Cribbage
DESCRIPTION:Club 50 @ Adult Center \n6:29pm
URL:https://portsusancamping.club/event/cribbage-3/2029-06-20/
LOCATION:Club 50
CATEGORIES:Activities
END:VEVENT
BEGIN:VEVENT
DTSTART;TZID=America/Los_Angeles:20290627T182900
DTEND;TZID=America/Los_Angeles:20290627T182900
DTSTAMP:20260421T052214
CREATED:20260213T173854Z
LAST-MODIFIED:20260213T173854Z
UID:10009538-1877279340-1877279340@portsusancamping.club
SUMMARY:Cribbage
DESCRIPTION:Club 50 @ Adult Center \n6:29pm
URL:https://portsusancamping.club/event/cribbage-3/2029-06-27/
LOCATION:Club 50
CATEGORIES:Activities
END:VEVENT
BEGIN:VEVENT
DTSTART;TZID=America/Los_Angeles:20290704T182900
DTEND;TZID=America/Los_Angeles:20290704T182900
DTSTAMP:20260421T052214
CREATED:20260213T173854Z
LAST-MODIFIED:20260213T173854Z
UID:10009539-1877884140-1877884140@portsusancamping.club
SUMMARY:Cribbage
DESCRIPTION:Club 50 @ Adult Center \n6:29pm
URL:https://portsusancamping.club/event/cribbage-3/2029-07-04/
LOCATION:Club 50
CATEGORIES:Activities
END:VEVENT
BEGIN:VEVENT
DTSTART;TZID=America/Los_Angeles:20290706T180000
DTEND;TZID=America/Los_Angeles:20290706T180000
DTSTAMP:20260421T052214
CREATED:20260410T165505Z
LAST-MODIFIED:20260410T165507Z
UID:10009852-1878055200-1878055200@portsusancamping.club
SUMMARY:Bunco
DESCRIPTION:Club 50 @ Adult Center \n6pm
URL:https://portsusancamping.club/event/bunco-2-2/2029-07-06/
LOCATION:Club 50
CATEGORIES:Activities
END:VEVENT
BEGIN:VEVENT
DTSTART;TZID=America/Los_Angeles:20290711T182900
DTEND;TZID=America/Los_Angeles:20290711T182900
DTSTAMP:20260421T052214
CREATED:20260213T173854Z
LAST-MODIFIED:20260213T173854Z
UID:10009540-1878488940-1878488940@portsusancamping.club
SUMMARY:Cribbage
DESCRIPTION:Club 50 @ Adult Center \n6:29pm
URL:https://portsusancamping.club/event/cribbage-3/2029-07-11/
LOCATION:Club 50
CATEGORIES:Activities
END:VEVENT
BEGIN:VEVENT
DTSTART;TZID=America/Los_Angeles:20290718T182900
DTEND;TZID=America/Los_Angeles:20290718T182900
DTSTAMP:20260421T052214
CREATED:20260213T173854Z
LAST-MODIFIED:20260213T173854Z
UID:10009541-1879093740-1879093740@portsusancamping.club
SUMMARY:Cribbage
DESCRIPTION:Club 50 @ Adult Center \n6:29pm
URL:https://portsusancamping.club/event/cribbage-3/2029-07-18/
LOCATION:Club 50
CATEGORIES:Activities
END:VEVENT
BEGIN:VEVENT
DTSTART;TZID=America/Los_Angeles:20290720T180000
DTEND;TZID=America/Los_Angeles:20290720T180000
DTSTAMP:20260421T052214
CREATED:20260410T165637Z
LAST-MODIFIED:20260410T165638Z
UID:10010048-1879264800-1879264800@portsusancamping.club
SUMMARY:Bingo
DESCRIPTION:Club 50 @ Adult Center \n6pm
URL:https://portsusancamping.club/event/bingo-2/2029-07-20/
LOCATION:Club 50
CATEGORIES:Activities
END:VEVENT
BEGIN:VEVENT
DTSTART;TZID=America/Los_Angeles:20290725T182900
DTEND;TZID=America/Los_Angeles:20290725T182900
DTSTAMP:20260421T052214
CREATED:20260213T173854Z
LAST-MODIFIED:20260213T173854Z
UID:10009542-1879698540-1879698540@portsusancamping.club
SUMMARY:Cribbage
DESCRIPTION:Club 50 @ Adult Center \n6:29pm
URL:https://portsusancamping.club/event/cribbage-3/2029-07-25/
LOCATION:Club 50
CATEGORIES:Activities
END:VEVENT
BEGIN:VEVENT
DTSTART;TZID=America/Los_Angeles:20290801T182900
DTEND;TZID=America/Los_Angeles:20290801T182900
DTSTAMP:20260421T052214
CREATED:20260213T173854Z
LAST-MODIFIED:20260213T173854Z
UID:10009543-1880303340-1880303340@portsusancamping.club
SUMMARY:Cribbage
DESCRIPTION:Club 50 @ Adult Center \n6:29pm
URL:https://portsusancamping.club/event/cribbage-3/2029-08-01/
LOCATION:Club 50
CATEGORIES:Activities
END:VEVENT
BEGIN:VEVENT
DTSTART;TZID=America/Los_Angeles:20290803T180000
DTEND;TZID=America/Los_Angeles:20290803T180000
DTSTAMP:20260421T052214
CREATED:20260410T165505Z
LAST-MODIFIED:20260410T165507Z
UID:10009854-1880474400-1880474400@portsusancamping.club
SUMMARY:Bunco
DESCRIPTION:Club 50 @ Adult Center \n6pm
URL:https://portsusancamping.club/event/bunco-2-2/2029-08-03/
LOCATION:Club 50
CATEGORIES:Activities
END:VEVENT
BEGIN:VEVENT
DTSTART;TZID=America/Los_Angeles:20290808T182900
DTEND;TZID=America/Los_Angeles:20290808T182900
DTSTAMP:20260421T052214
CREATED:20260213T173854Z
LAST-MODIFIED:20260213T173854Z
UID:10009544-1880908140-1880908140@portsusancamping.club
SUMMARY:Cribbage
DESCRIPTION:Club 50 @ Adult Center \n6:29pm
URL:https://portsusancamping.club/event/cribbage-3/2029-08-08/
LOCATION:Club 50
CATEGORIES:Activities
END:VEVENT
BEGIN:VEVENT
DTSTART;TZID=America/Los_Angeles:20290815T182900
DTEND;TZID=America/Los_Angeles:20290815T182900
DTSTAMP:20260421T052214
CREATED:20260213T173854Z
LAST-MODIFIED:20260213T173854Z
UID:10009545-1881512940-1881512940@portsusancamping.club
SUMMARY:Cribbage
DESCRIPTION:Club 50 @ Adult Center \n6:29pm
URL:https://portsusancamping.club/event/cribbage-3/2029-08-15/
LOCATION:Club 50
CATEGORIES:Activities
END:VEVENT
BEGIN:VEVENT
DTSTART;TZID=America/Los_Angeles:20290817T180000
DTEND;TZID=America/Los_Angeles:20290817T180000
DTSTAMP:20260421T052214
CREATED:20260410T165637Z
LAST-MODIFIED:20260410T165638Z
UID:10010049-1881684000-1881684000@portsusancamping.club
SUMMARY:Bingo
DESCRIPTION:Club 50 @ Adult Center \n6pm
URL:https://portsusancamping.club/event/bingo-2/2029-08-17/
LOCATION:Club 50
CATEGORIES:Activities
END:VEVENT
BEGIN:VEVENT
DTSTART;TZID=America/Los_Angeles:20290822T182900
DTEND;TZID=America/Los_Angeles:20290822T182900
DTSTAMP:20260421T052214
CREATED:20260213T173854Z
LAST-MODIFIED:20260213T173854Z
UID:10009546-1882117740-1882117740@portsusancamping.club
SUMMARY:Cribbage
DESCRIPTION:Club 50 @ Adult Center \n6:29pm
URL:https://portsusancamping.club/event/cribbage-3/2029-08-22/
LOCATION:Club 50
CATEGORIES:Activities
END:VEVENT
BEGIN:VEVENT
DTSTART;TZID=America/Los_Angeles:20290829T182900
DTEND;TZID=America/Los_Angeles:20290829T182900
DTSTAMP:20260421T052214
CREATED:20260213T173854Z
LAST-MODIFIED:20260213T173854Z
UID:10009547-1882722540-1882722540@portsusancamping.club
SUMMARY:Cribbage
DESCRIPTION:Club 50 @ Adult Center \n6:29pm
URL:https://portsusancamping.club/event/cribbage-3/2029-08-29/
LOCATION:Club 50
CATEGORIES:Activities
END:VEVENT
BEGIN:VEVENT
DTSTART;TZID=America/Los_Angeles:20290905T182900
DTEND;TZID=America/Los_Angeles:20290905T182900
DTSTAMP:20260421T052214
CREATED:20260213T173854Z
LAST-MODIFIED:20260213T173854Z
UID:10009548-1883327340-1883327340@portsusancamping.club
SUMMARY:Cribbage
DESCRIPTION:Club 50 @ Adult Center \n6:29pm
URL:https://portsusancamping.club/event/cribbage-3/2029-09-05/
LOCATION:Club 50
CATEGORIES:Activities
END:VEVENT
BEGIN:VEVENT
DTSTART;TZID=America/Los_Angeles:20290907T180000
DTEND;TZID=America/Los_Angeles:20290907T180000
DTSTAMP:20260421T052214
CREATED:20260410T165505Z
LAST-MODIFIED:20260410T165507Z
UID:10010017-1883498400-1883498400@portsusancamping.club
SUMMARY:Bunco
DESCRIPTION:Club 50 @ Adult Center \n6pm
URL:https://portsusancamping.club/event/bunco-2-2/2029-09-07/
LOCATION:Club 50
CATEGORIES:Activities
END:VEVENT
BEGIN:VEVENT
DTSTART;TZID=America/Los_Angeles:20290912T182900
DTEND;TZID=America/Los_Angeles:20290912T182900
DTSTAMP:20260421T052214
CREATED:20260213T173854Z
LAST-MODIFIED:20260213T173854Z
UID:10009549-1883932140-1883932140@portsusancamping.club
SUMMARY:Cribbage
DESCRIPTION:Club 50 @ Adult Center \n6:29pm
URL:https://portsusancamping.club/event/cribbage-3/2029-09-12/
LOCATION:Club 50
CATEGORIES:Activities
END:VEVENT
BEGIN:VEVENT
DTSTART;TZID=America/Los_Angeles:20290919T182900
DTEND;TZID=America/Los_Angeles:20290919T182900
DTSTAMP:20260421T052214
CREATED:20260213T173854Z
LAST-MODIFIED:20260213T173854Z
UID:10009550-1884536940-1884536940@portsusancamping.club
SUMMARY:Cribbage
DESCRIPTION:Club 50 @ Adult Center \n6:29pm
URL:https://portsusancamping.club/event/cribbage-3/2029-09-19/
LOCATION:Club 50
CATEGORIES:Activities
END:VEVENT
BEGIN:VEVENT
DTSTART;TZID=America/Los_Angeles:20290921T180000
DTEND;TZID=America/Los_Angeles:20290921T180000
DTSTAMP:20260421T052214
CREATED:20260410T165637Z
LAST-MODIFIED:20260410T165638Z
UID:10009724-1884708000-1884708000@portsusancamping.club
SUMMARY:Bingo
DESCRIPTION:Club 50 @ Adult Center \n6pm
URL:https://portsusancamping.club/event/bingo-2/2029-09-21/
LOCATION:Club 50
CATEGORIES:Activities
END:VEVENT
BEGIN:VEVENT
DTSTART;TZID=America/Los_Angeles:20290926T182900
DTEND;TZID=America/Los_Angeles:20290926T182900
DTSTAMP:20260421T052214
CREATED:20260213T173854Z
LAST-MODIFIED:20260213T173854Z
UID:10009551-1885141740-1885141740@portsusancamping.club
SUMMARY:Cribbage
DESCRIPTION:Club 50 @ Adult Center \n6:29pm
URL:https://portsusancamping.club/event/cribbage-3/2029-09-26/
LOCATION:Club 50
CATEGORIES:Activities
END:VEVENT
BEGIN:VEVENT
DTSTART;TZID=America/Los_Angeles:20291003T182900
DTEND;TZID=America/Los_Angeles:20291003T182900
DTSTAMP:20260421T052214
CREATED:20260213T173854Z
LAST-MODIFIED:20260213T173854Z
UID:10009552-1885746540-1885746540@portsusancamping.club
SUMMARY:Cribbage
DESCRIPTION:Club 50 @ Adult Center \n6:29pm
URL:https://portsusancamping.club/event/cribbage-3/2029-10-03/
LOCATION:Club 50
CATEGORIES:Activities
END:VEVENT
BEGIN:VEVENT
DTSTART;TZID=America/Los_Angeles:20291005T180000
DTEND;TZID=America/Los_Angeles:20291005T180000
DTSTAMP:20260421T052214
CREATED:20260410T165505Z
LAST-MODIFIED:20260410T165507Z
UID:10010018-1885917600-1885917600@portsusancamping.club
SUMMARY:Bunco
DESCRIPTION:Club 50 @ Adult Center \n6pm
URL:https://portsusancamping.club/event/bunco-2-2/2029-10-05/
LOCATION:Club 50
CATEGORIES:Activities
END:VEVENT
BEGIN:VEVENT
DTSTART;TZID=America/Los_Angeles:20291010T182900
DTEND;TZID=America/Los_Angeles:20291010T182900
DTSTAMP:20260421T052214
CREATED:20260213T173854Z
LAST-MODIFIED:20260213T173854Z
UID:10009553-1886351340-1886351340@portsusancamping.club
SUMMARY:Cribbage
DESCRIPTION:Club 50 @ Adult Center \n6:29pm
URL:https://portsusancamping.club/event/cribbage-3/2029-10-10/
LOCATION:Club 50
CATEGORIES:Activities
END:VEVENT
BEGIN:VEVENT
DTSTART;TZID=America/Los_Angeles:20291017T182900
DTEND;TZID=America/Los_Angeles:20291017T182900
DTSTAMP:20260421T052214
CREATED:20260213T173854Z
LAST-MODIFIED:20260213T173854Z
UID:10009554-1886956140-1886956140@portsusancamping.club
SUMMARY:Cribbage
DESCRIPTION:Club 50 @ Adult Center \n6:29pm
URL:https://portsusancamping.club/event/cribbage-3/2029-10-17/
LOCATION:Club 50
CATEGORIES:Activities
END:VEVENT
BEGIN:VEVENT
DTSTART;TZID=America/Los_Angeles:20291019T180000
DTEND;TZID=America/Los_Angeles:20291019T180000
DTSTAMP:20260421T052214
CREATED:20260410T165637Z
LAST-MODIFIED:20260410T165638Z
UID:10009726-1887127200-1887127200@portsusancamping.club
SUMMARY:Bingo
DESCRIPTION:Club 50 @ Adult Center \n6pm
URL:https://portsusancamping.club/event/bingo-2/2029-10-19/
LOCATION:Club 50
CATEGORIES:Activities
END:VEVENT
BEGIN:VEVENT
DTSTART;TZID=America/Los_Angeles:20291024T182900
DTEND;TZID=America/Los_Angeles:20291024T182900
DTSTAMP:20260421T052214
CREATED:20260213T173854Z
LAST-MODIFIED:20260213T173854Z
UID:10009555-1887560940-1887560940@portsusancamping.club
SUMMARY:Cribbage
DESCRIPTION:Club 50 @ Adult Center \n6:29pm
URL:https://portsusancamping.club/event/cribbage-3/2029-10-24/
LOCATION:Club 50
CATEGORIES:Activities
END:VEVENT
BEGIN:VEVENT
DTSTART;TZID=America/Los_Angeles:20291031T182900
DTEND;TZID=America/Los_Angeles:20291031T182900
DTSTAMP:20260421T052214
CREATED:20260213T173854Z
LAST-MODIFIED:20260213T173854Z
UID:10009556-1888165740-1888165740@portsusancamping.club
SUMMARY:Cribbage
DESCRIPTION:Club 50 @ Adult Center \n6:29pm
URL:https://portsusancamping.club/event/cribbage-3/2029-10-31/
LOCATION:Club 50
CATEGORIES:Activities
END:VEVENT
BEGIN:VEVENT
DTSTART;TZID=America/Los_Angeles:20291102T180000
DTEND;TZID=America/Los_Angeles:20291102T180000
DTSTAMP:20260421T052214
CREATED:20260410T165505Z
LAST-MODIFIED:20260410T165507Z
UID:10010019-1888336800-1888336800@portsusancamping.club
SUMMARY:Bunco
DESCRIPTION:Club 50 @ Adult Center \n6pm
URL:https://portsusancamping.club/event/bunco-2-2/2029-11-02/
LOCATION:Club 50
CATEGORIES:Activities
END:VEVENT
END:VCALENDAR