BEGIN:VCALENDAR
VERSION:2.0
PRODID:-//Port Susan Camping Club - ECPv6.15.20//NONSGML v1.0//EN
CALSCALE:GREGORIAN
METHOD:PUBLISH
X-WR-CALNAME:Port Susan Camping Club
X-ORIGINAL-URL:https://portsusancamping.club
X-WR-CALDESC:Events for Port Susan Camping Club
REFRESH-INTERVAL;VALUE=DURATION:PT1H
X-Robots-Tag:noindex
X-PUBLISHED-TTL:PT1H
BEGIN:VTIMEZONE
TZID:America/Los_Angeles
BEGIN:DAYLIGHT
TZOFFSETFROM:-0800
TZOFFSETTO:-0700
TZNAME:PDT
DTSTART:20260308T100000
END:DAYLIGHT
BEGIN:STANDARD
TZOFFSETFROM:-0700
TZOFFSETTO:-0800
TZNAME:PST
DTSTART:20261101T090000
END:STANDARD
BEGIN:DAYLIGHT
TZOFFSETFROM:-0800
TZOFFSETTO:-0700
TZNAME:PDT
DTSTART:20270314T100000
END:DAYLIGHT
BEGIN:STANDARD
TZOFFSETFROM:-0700
TZOFFSETTO:-0800
TZNAME:PST
DTSTART:20271107T090000
END:STANDARD
BEGIN:DAYLIGHT
TZOFFSETFROM:-0800
TZOFFSETTO:-0700
TZNAME:PDT
DTSTART:20280312T100000
END:DAYLIGHT
BEGIN:STANDARD
TZOFFSETFROM:-0700
TZOFFSETTO:-0800
TZNAME:PST
DTSTART:20281105T090000
END:STANDARD
END:VTIMEZONE
BEGIN:VEVENT
DTSTART;TZID=America/Los_Angeles:20270728T182900
DTEND;TZID=America/Los_Angeles:20270728T182900
DTSTAMP:20260420T132738
CREATED:20260213T173854Z
LAST-MODIFIED:20260213T173854Z
UID:10009438-1816799340-1816799340@portsusancamping.club
SUMMARY:Cribbage
DESCRIPTION:Club 50 @ Adult Center \n6:29pm
URL:https://portsusancamping.club/event/cribbage-3/2027-07-28/
LOCATION:Club 50
CATEGORIES:Activities
END:VEVENT
BEGIN:VEVENT
DTSTART;TZID=America/Los_Angeles:20270804T182900
DTEND;TZID=America/Los_Angeles:20270804T182900
DTSTAMP:20260420T132738
CREATED:20260213T173854Z
LAST-MODIFIED:20260213T173854Z
UID:10009439-1817404140-1817404140@portsusancamping.club
SUMMARY:Cribbage
DESCRIPTION:Club 50 @ Adult Center \n6:29pm
URL:https://portsusancamping.club/event/cribbage-3/2027-08-04/
LOCATION:Club 50
CATEGORIES:Activities
END:VEVENT
BEGIN:VEVENT
DTSTART;TZID=America/Los_Angeles:20270806T180000
DTEND;TZID=America/Los_Angeles:20270806T180000
DTSTAMP:20260420T132738
CREATED:20260410T165505Z
LAST-MODIFIED:20260410T165507Z
UID:10009802-1817575200-1817575200@portsusancamping.club
SUMMARY:Bunco
DESCRIPTION:Club 50 @ Adult Center \n6pm
URL:https://portsusancamping.club/event/bunco-2-2/2027-08-06/
LOCATION:Club 50
CATEGORIES:Activities
END:VEVENT
BEGIN:VEVENT
DTSTART;TZID=America/Los_Angeles:20270811T182900
DTEND;TZID=America/Los_Angeles:20270811T182900
DTSTAMP:20260420T132738
CREATED:20260213T173854Z
LAST-MODIFIED:20260213T173854Z
UID:10009440-1818008940-1818008940@portsusancamping.club
SUMMARY:Cribbage
DESCRIPTION:Club 50 @ Adult Center \n6:29pm
URL:https://portsusancamping.club/event/cribbage-3/2027-08-11/
LOCATION:Club 50
CATEGORIES:Activities
END:VEVENT
BEGIN:VEVENT
DTSTART;TZID=America/Los_Angeles:20270818T182900
DTEND;TZID=America/Los_Angeles:20270818T182900
DTSTAMP:20260420T132738
CREATED:20260213T173854Z
LAST-MODIFIED:20260213T173854Z
UID:10009441-1818613740-1818613740@portsusancamping.club
SUMMARY:Cribbage
DESCRIPTION:Club 50 @ Adult Center \n6:29pm
URL:https://portsusancamping.club/event/cribbage-3/2027-08-18/
LOCATION:Club 50
CATEGORIES:Activities
END:VEVENT
BEGIN:VEVENT
DTSTART;TZID=America/Los_Angeles:20270820T180000
DTEND;TZID=America/Los_Angeles:20270820T180000
DTSTAMP:20260420T132738
CREATED:20260410T165637Z
LAST-MODIFIED:20260410T165638Z
UID:10010036-1818784800-1818784800@portsusancamping.club
SUMMARY:Bingo
DESCRIPTION:Club 50 @ Adult Center \n6pm
URL:https://portsusancamping.club/event/bingo-2/2027-08-20/
LOCATION:Club 50
CATEGORIES:Activities
END:VEVENT
BEGIN:VEVENT
DTSTART;TZID=America/Los_Angeles:20270825T182900
DTEND;TZID=America/Los_Angeles:20270825T182900
DTSTAMP:20260420T132738
CREATED:20260213T173854Z
LAST-MODIFIED:20260213T173854Z
UID:10009442-1819218540-1819218540@portsusancamping.club
SUMMARY:Cribbage
DESCRIPTION:Club 50 @ Adult Center \n6:29pm
URL:https://portsusancamping.club/event/cribbage-3/2027-08-25/
LOCATION:Club 50
CATEGORIES:Activities
END:VEVENT
BEGIN:VEVENT
DTSTART;TZID=America/Los_Angeles:20270901T182900
DTEND;TZID=America/Los_Angeles:20270901T182900
DTSTAMP:20260420T132738
CREATED:20260213T173854Z
LAST-MODIFIED:20260213T173854Z
UID:10009443-1819823340-1819823340@portsusancamping.club
SUMMARY:Cribbage
DESCRIPTION:Club 50 @ Adult Center \n6:29pm
URL:https://portsusancamping.club/event/cribbage-3/2027-09-01/
LOCATION:Club 50
CATEGORIES:Activities
END:VEVENT
BEGIN:VEVENT
DTSTART;TZID=America/Los_Angeles:20270903T180000
DTEND;TZID=America/Los_Angeles:20270903T180000
DTSTAMP:20260420T132738
CREATED:20260410T165505Z
LAST-MODIFIED:20260410T165507Z
UID:10009804-1819994400-1819994400@portsusancamping.club
SUMMARY:Bunco
DESCRIPTION:Club 50 @ Adult Center \n6pm
URL:https://portsusancamping.club/event/bunco-2-2/2027-09-03/
LOCATION:Club 50
CATEGORIES:Activities
END:VEVENT
BEGIN:VEVENT
DTSTART;TZID=America/Los_Angeles:20270908T182900
DTEND;TZID=America/Los_Angeles:20270908T182900
DTSTAMP:20260420T132738
CREATED:20260213T173854Z
LAST-MODIFIED:20260213T173854Z
UID:10009444-1820428140-1820428140@portsusancamping.club
SUMMARY:Cribbage
DESCRIPTION:Club 50 @ Adult Center \n6:29pm
URL:https://portsusancamping.club/event/cribbage-3/2027-09-08/
LOCATION:Club 50
CATEGORIES:Activities
END:VEVENT
BEGIN:VEVENT
DTSTART;TZID=America/Los_Angeles:20270915T182900
DTEND;TZID=America/Los_Angeles:20270915T182900
DTSTAMP:20260420T132738
CREATED:20260213T173854Z
LAST-MODIFIED:20260213T173854Z
UID:10009445-1821032940-1821032940@portsusancamping.club
SUMMARY:Cribbage
DESCRIPTION:Club 50 @ Adult Center \n6:29pm
URL:https://portsusancamping.club/event/cribbage-3/2027-09-15/
LOCATION:Club 50
CATEGORIES:Activities
END:VEVENT
BEGIN:VEVENT
DTSTART;TZID=America/Los_Angeles:20270917T180000
DTEND;TZID=America/Los_Angeles:20270917T180000
DTSTAMP:20260420T132738
CREATED:20260410T165637Z
LAST-MODIFIED:20260410T165638Z
UID:10010037-1821204000-1821204000@portsusancamping.club
SUMMARY:Bingo
DESCRIPTION:Club 50 @ Adult Center \n6pm
URL:https://portsusancamping.club/event/bingo-2/2027-09-17/
LOCATION:Club 50
CATEGORIES:Activities
END:VEVENT
BEGIN:VEVENT
DTSTART;TZID=America/Los_Angeles:20270922T182900
DTEND;TZID=America/Los_Angeles:20270922T182900
DTSTAMP:20260420T132738
CREATED:20260213T173854Z
LAST-MODIFIED:20260213T173854Z
UID:10009446-1821637740-1821637740@portsusancamping.club
SUMMARY:Cribbage
DESCRIPTION:Club 50 @ Adult Center \n6:29pm
URL:https://portsusancamping.club/event/cribbage-3/2027-09-22/
LOCATION:Club 50
CATEGORIES:Activities
END:VEVENT
BEGIN:VEVENT
DTSTART;TZID=America/Los_Angeles:20270929T182900
DTEND;TZID=America/Los_Angeles:20270929T182900
DTSTAMP:20260420T132738
CREATED:20260213T173854Z
LAST-MODIFIED:20260213T173854Z
UID:10009447-1822242540-1822242540@portsusancamping.club
SUMMARY:Cribbage
DESCRIPTION:Club 50 @ Adult Center \n6:29pm
URL:https://portsusancamping.club/event/cribbage-3/2027-09-29/
LOCATION:Club 50
CATEGORIES:Activities
END:VEVENT
BEGIN:VEVENT
DTSTART;TZID=America/Los_Angeles:20271001T180000
DTEND;TZID=America/Los_Angeles:20271001T180000
DTSTAMP:20260420T132738
CREATED:20260410T165505Z
LAST-MODIFIED:20260410T165507Z
UID:10009806-1822413600-1822413600@portsusancamping.club
SUMMARY:Bunco
DESCRIPTION:Club 50 @ Adult Center \n6pm
URL:https://portsusancamping.club/event/bunco-2-2/2027-10-01/
LOCATION:Club 50
CATEGORIES:Activities
END:VEVENT
BEGIN:VEVENT
DTSTART;TZID=America/Los_Angeles:20271006T182900
DTEND;TZID=America/Los_Angeles:20271006T182900
DTSTAMP:20260420T132738
CREATED:20260213T173854Z
LAST-MODIFIED:20260213T173854Z
UID:10009448-1822847340-1822847340@portsusancamping.club
SUMMARY:Cribbage
DESCRIPTION:Club 50 @ Adult Center \n6:29pm
URL:https://portsusancamping.club/event/cribbage-3/2027-10-06/
LOCATION:Club 50
CATEGORIES:Activities
END:VEVENT
BEGIN:VEVENT
DTSTART;TZID=America/Los_Angeles:20271013T182900
DTEND;TZID=America/Los_Angeles:20271013T182900
DTSTAMP:20260420T132738
CREATED:20260213T173854Z
LAST-MODIFIED:20260213T173854Z
UID:10009449-1823452140-1823452140@portsusancamping.club
SUMMARY:Cribbage
DESCRIPTION:Club 50 @ Adult Center \n6:29pm
URL:https://portsusancamping.club/event/cribbage-3/2027-10-13/
LOCATION:Club 50
CATEGORIES:Activities
END:VEVENT
BEGIN:VEVENT
DTSTART;TZID=America/Los_Angeles:20271015T180000
DTEND;TZID=America/Los_Angeles:20271015T180000
DTSTAMP:20260420T132738
CREATED:20260410T165637Z
LAST-MODIFIED:20260410T165638Z
UID:10010038-1823623200-1823623200@portsusancamping.club
SUMMARY:Bingo
DESCRIPTION:Club 50 @ Adult Center \n6pm
URL:https://portsusancamping.club/event/bingo-2/2027-10-15/
LOCATION:Club 50
CATEGORIES:Activities
END:VEVENT
BEGIN:VEVENT
DTSTART;TZID=America/Los_Angeles:20271020T182900
DTEND;TZID=America/Los_Angeles:20271020T182900
DTSTAMP:20260420T132738
CREATED:20260213T173854Z
LAST-MODIFIED:20260213T173854Z
UID:10009450-1824056940-1824056940@portsusancamping.club
SUMMARY:Cribbage
DESCRIPTION:Club 50 @ Adult Center \n6:29pm
URL:https://portsusancamping.club/event/cribbage-3/2027-10-20/
LOCATION:Club 50
CATEGORIES:Activities
END:VEVENT
BEGIN:VEVENT
DTSTART;TZID=America/Los_Angeles:20271027T182900
DTEND;TZID=America/Los_Angeles:20271027T182900
DTSTAMP:20260420T132738
CREATED:20260213T173854Z
LAST-MODIFIED:20260213T173854Z
UID:10009451-1824661740-1824661740@portsusancamping.club
SUMMARY:Cribbage
DESCRIPTION:Club 50 @ Adult Center \n6:29pm
URL:https://portsusancamping.club/event/cribbage-3/2027-10-27/
LOCATION:Club 50
CATEGORIES:Activities
END:VEVENT
BEGIN:VEVENT
DTSTART;TZID=America/Los_Angeles:20271103T182900
DTEND;TZID=America/Los_Angeles:20271103T182900
DTSTAMP:20260420T132738
CREATED:20260213T173854Z
LAST-MODIFIED:20260213T173854Z
UID:10009452-1825266540-1825266540@portsusancamping.club
SUMMARY:Cribbage
DESCRIPTION:Club 50 @ Adult Center \n6:29pm
URL:https://portsusancamping.club/event/cribbage-3/2027-11-03/
LOCATION:Club 50
CATEGORIES:Activities
END:VEVENT
BEGIN:VEVENT
DTSTART;TZID=America/Los_Angeles:20271105T180000
DTEND;TZID=America/Los_Angeles:20271105T180000
DTSTAMP:20260420T132738
CREATED:20260410T165505Z
LAST-MODIFIED:20260410T165507Z
UID:10010006-1825437600-1825437600@portsusancamping.club
SUMMARY:Bunco
DESCRIPTION:Club 50 @ Adult Center \n6pm
URL:https://portsusancamping.club/event/bunco-2-2/2027-11-05/
LOCATION:Club 50
CATEGORIES:Activities
END:VEVENT
BEGIN:VEVENT
DTSTART;TZID=America/Los_Angeles:20271110T182900
DTEND;TZID=America/Los_Angeles:20271110T182900
DTSTAMP:20260420T132738
CREATED:20260213T173854Z
LAST-MODIFIED:20260213T173854Z
UID:10009453-1825871340-1825871340@portsusancamping.club
SUMMARY:Cribbage
DESCRIPTION:Club 50 @ Adult Center \n6:29pm
URL:https://portsusancamping.club/event/cribbage-3/2027-11-10/
LOCATION:Club 50
CATEGORIES:Activities
END:VEVENT
BEGIN:VEVENT
DTSTART;TZID=America/Los_Angeles:20271117T182900
DTEND;TZID=America/Los_Angeles:20271117T182900
DTSTAMP:20260420T132738
CREATED:20260213T173854Z
LAST-MODIFIED:20260213T173854Z
UID:10009454-1826476140-1826476140@portsusancamping.club
SUMMARY:Cribbage
DESCRIPTION:Club 50 @ Adult Center \n6:29pm
URL:https://portsusancamping.club/event/cribbage-3/2027-11-17/
LOCATION:Club 50
CATEGORIES:Activities
END:VEVENT
BEGIN:VEVENT
DTSTART;TZID=America/Los_Angeles:20271119T180000
DTEND;TZID=America/Los_Angeles:20271119T180000
DTSTAMP:20260420T132738
CREATED:20260410T165637Z
LAST-MODIFIED:20260410T165638Z
UID:10009676-1826647200-1826647200@portsusancamping.club
SUMMARY:Bingo
DESCRIPTION:Club 50 @ Adult Center \n6pm
URL:https://portsusancamping.club/event/bingo-2/2027-11-19/
LOCATION:Club 50
CATEGORIES:Activities
END:VEVENT
BEGIN:VEVENT
DTSTART;TZID=America/Los_Angeles:20271124T182900
DTEND;TZID=America/Los_Angeles:20271124T182900
DTSTAMP:20260420T132738
CREATED:20260213T173854Z
LAST-MODIFIED:20260213T173854Z
UID:10009455-1827080940-1827080940@portsusancamping.club
SUMMARY:Cribbage
DESCRIPTION:Club 50 @ Adult Center \n6:29pm
URL:https://portsusancamping.club/event/cribbage-3/2027-11-24/
LOCATION:Club 50
CATEGORIES:Activities
END:VEVENT
BEGIN:VEVENT
DTSTART;TZID=America/Los_Angeles:20271201T182900
DTEND;TZID=America/Los_Angeles:20271201T182900
DTSTAMP:20260420T132738
CREATED:20260213T173854Z
LAST-MODIFIED:20260213T173854Z
UID:10009456-1827685740-1827685740@portsusancamping.club
SUMMARY:Cribbage
DESCRIPTION:Club 50 @ Adult Center \n6:29pm
URL:https://portsusancamping.club/event/cribbage-3/2027-12-01/
LOCATION:Club 50
CATEGORIES:Activities
END:VEVENT
BEGIN:VEVENT
DTSTART;TZID=America/Los_Angeles:20271203T180000
DTEND;TZID=America/Los_Angeles:20271203T180000
DTSTAMP:20260420T132738
CREATED:20260410T165505Z
LAST-MODIFIED:20260410T165507Z
UID:10010007-1827856800-1827856800@portsusancamping.club
SUMMARY:Bunco
DESCRIPTION:Club 50 @ Adult Center \n6pm
URL:https://portsusancamping.club/event/bunco-2-2/2027-12-03/
LOCATION:Club 50
CATEGORIES:Activities
END:VEVENT
BEGIN:VEVENT
DTSTART;TZID=America/Los_Angeles:20271208T182900
DTEND;TZID=America/Los_Angeles:20271208T182900
DTSTAMP:20260420T132738
CREATED:20260213T173854Z
LAST-MODIFIED:20260213T173854Z
UID:10009457-1828290540-1828290540@portsusancamping.club
SUMMARY:Cribbage
DESCRIPTION:Club 50 @ Adult Center \n6:29pm
URL:https://portsusancamping.club/event/cribbage-3/2027-12-08/
LOCATION:Club 50
CATEGORIES:Activities
END:VEVENT
BEGIN:VEVENT
DTSTART;TZID=America/Los_Angeles:20271215T182900
DTEND;TZID=America/Los_Angeles:20271215T182900
DTSTAMP:20260420T132738
CREATED:20260213T173854Z
LAST-MODIFIED:20260213T173854Z
UID:10009458-1828895340-1828895340@portsusancamping.club
SUMMARY:Cribbage
DESCRIPTION:Club 50 @ Adult Center \n6:29pm
URL:https://portsusancamping.club/event/cribbage-3/2027-12-15/
LOCATION:Club 50
CATEGORIES:Activities
END:VEVENT
END:VCALENDAR